BEGIN:VCALENDAR
VERSION:2.0
PRODID:-//wp-events-plugin.com//7.2.3.1//EN
TZID:America/Chicago
X-WR-TIMEZONE:America/Chicago
BEGIN:VEVENT
UID:0-4@seiler-ds.com
DTSTART;TZID=America/Chicago:20210119T080000
DTEND;TZID=America/Chicago:20210120T120000
DTSTAMP:20210115T225820Z
URL:https://www.seiler-ds.com/events/acad-fundamentals-public-vilt-course/
SUMMARY:AutoCAD Fundamentals Course - Open Enrollment
DESCRIPTION:\nNOTE: This course has been postponed until February 3.\nFor m
 ore information and registration\, click HERE.\n\n2-day AutoCAD Fundamenta
 ls Public VILT (Virtual Instructor-Led Training) Course\nPrerequisites:\nF
 amiliarity with Windows based computer operating system &amp\; basic desig
 n/drafting skills are all assets for this course.\n\n&nbsp\;\nExpectations
 :\nUsing the functionality of Autodesk AutoCAD features\, students are ena
 bled to create basic 2D drawings.\n\n&nbsp\;\nTopics Covered:\nUnderstandi
 ng the AutoCAD workspace and user interface\nUsing basic drawing\, editing
  and viewing tools\nOrganizing drawing objects on layers Inserting reusabl
 e symbols (blocks)\nUsing external drawing references\nPreparing a layout 
 to be plotted\nAdding text\, hatching and dimensions\nUsing more advanced 
 editing and construction techniques\nAdding parametric constraints to obje
 cts\nCreating local and global blocks\nSetting up layers\, styles and temp
 lates\nUsing advanced plotting and publishing.\n\n\n
CATEGORIES:Multi-Industry
END:VEVENT
BEGIN:VTIMEZONE
TZID:America/Chicago
X-LIC-LOCATION:America/Chicago
BEGIN:STANDARD
DTSTART:20201101T010000
TZOFFSETFROM:-0500
TZOFFSETTO:-0600
TZNAME:CST
END:STANDARD
END:VTIMEZONE
END:VCALENDAR